BEGIN:VCALENDAR
VERSION:2.0
PRODID:-//SC Weisse Dame e. V. - ECPv6.15.20//NONSGML v1.0//EN
CALSCALE:GREGORIAN
METHOD:PUBLISH
X-WR-CALNAME:SC Weisse Dame e. V.
X-ORIGINAL-URL:http://sc-weisse-dame.de/v3
X-WR-CALDESC:Veranstaltungen für SC Weisse Dame e. V.
REFRESH-INTERVAL;VALUE=DURATION:PT1H
X-Robots-Tag:noindex
X-PUBLISHED-TTL:PT1H
BEGIN:VTIMEZONE
TZID:Europe/Berlin
BEGIN:DAYLIGHT
TZOFFSETFROM:+0100
TZOFFSETTO:+0200
TZNAME:CEST
DTSTART:20230326T010000
END:DAYLIGHT
BEGIN:STANDARD
TZOFFSETFROM:+0200
TZOFFSETTO:+0100
TZNAME:CET
DTSTART:20231029T010000
END:STANDARD
BEGIN:DAYLIGHT
TZOFFSETFROM:+0100
TZOFFSETTO:+0200
TZNAME:CEST
DTSTART:20240331T010000
END:DAYLIGHT
BEGIN:STANDARD
TZOFFSETFROM:+0200
TZOFFSETTO:+0100
TZNAME:CET
DTSTART:20241027T010000
END:STANDARD
BEGIN:DAYLIGHT
TZOFFSETFROM:+0100
TZOFFSETTO:+0200
TZNAME:CEST
DTSTART:20250330T010000
END:DAYLIGHT
BEGIN:STANDARD
TZOFFSETFROM:+0200
TZOFFSETTO:+0100
TZNAME:CET
DTSTART:20251026T010000
END:STANDARD
END:VTIMEZONE
BEGIN:VEVENT
DTSTART;TZID=Europe/Berlin:20241101T190000
DTEND;TZID=Europe/Berlin:20241101T230000
DTSTAMP:20260420T174259
CREATED:20241029T195211Z
LAST-MODIFIED:20241029T195211Z
UID:30393-1730487600-1730502000@sc-weisse-dame.de
SUMMARY:Clubmeisterschaft 2025 (Nachholpartien)
DESCRIPTION:
URL:http://sc-weisse-dame.de/v3/termine/clubmeisterschaft-2025-nachholpartien/
LOCATION:HaL Haus am Lietzensee\, Herbartstraße 25\, Berlin\, Berlin\, 14057\, Deutschland
CATEGORIES:Allgemein,Clubmeisterschaft
END:VEVENT
BEGIN:VEVENT
DTSTART;TZID=Europe/Berlin:20241108T190000
DTEND;TZID=Europe/Berlin:20241108T230000
DTSTAMP:20260420T174259
CREATED:20241029T195411Z
LAST-MODIFIED:20241105T222348Z
UID:30396-1731092400-1731106800@sc-weisse-dame.de
SUMMARY:Schach 960 (und Nachholtermin Clubmeisterschaft)
DESCRIPTION:
URL:http://sc-weisse-dame.de/v3/termine/schach-960-und-nachholtermin/
LOCATION:HaL Haus am Lietzensee\, Herbartstraße 25\, Berlin\, Berlin\, 14057\, Deutschland
CATEGORIES:Allgemein,Vortrag
END:VEVENT
BEGIN:VEVENT
DTSTART;TZID=Europe/Berlin:20241110T100000
DTEND;TZID=Europe/Berlin:20241110T150000
DTSTAMP:20260420T174259
CREATED:20241103T161410Z
LAST-MODIFIED:20241103T161410Z
UID:30438-1731232800-1731250800@sc-weisse-dame.de
SUMMARY:Landesliga R2
DESCRIPTION:WeDa 1 – Oberschöneweide 2
URL:http://sc-weisse-dame.de/v3/termine/landesliga-r2/
LOCATION:Rathaus Treptow\, Neue Krugallee 2-6\, 12435 Berlin\, Germany
CATEGORIES:Allgemein,BMM
END:VEVENT
BEGIN:VEVENT
DTSTART;TZID=Europe/Berlin:20241115T191500
DTEND;TZID=Europe/Berlin:20241115T230000
DTSTAMP:20260420T174259
CREATED:20241103T161536Z
LAST-MODIFIED:20241105T222422Z
UID:30440-1731698100-1731711600@sc-weisse-dame.de
SUMMARY:Clubmeisterschaft 2025\, Runde 3
DESCRIPTION:
URL:http://sc-weisse-dame.de/v3/termine/clubmeisterschaft-2025-runde-3/
LOCATION:HaL Haus am Lietzensee\, Herbartstraße 25\, Berlin\, Berlin\, 14057\, Deutschland
CATEGORIES:Allgemein,Clubmeisterschaft
END:VEVENT
BEGIN:VEVENT
DTSTART;TZID=Europe/Berlin:20241117T090000
DTEND;TZID=Europe/Berlin:20241117T150000
DTSTAMP:20260420T174259
CREATED:20241103T160651Z
LAST-MODIFIED:20241103T160720Z
UID:30436-1731834000-1731855600@sc-weisse-dame.de
SUMMARY:BMM R3 (Heimspiel)
DESCRIPTION:WeDa 2 – Empor Berlin 2 \nWeDa 3 –  SK Tempelhof \nWeDa 4 – Empor Berlin 4\nWeDa 5 – BSC Rehberge 2
URL:http://sc-weisse-dame.de/v3/termine/bmm-r3-heim-2/
LOCATION:HaL Haus am Lietzensee\, Herbartstraße 25\, Berlin\, Berlin\, 14057\, Deutschland
CATEGORIES:Allgemein,BMM
END:VEVENT
BEGIN:VEVENT
DTSTART;TZID=Europe/Berlin:20241122T191500
DTEND;TZID=Europe/Berlin:20241122T231500
DTSTAMP:20260420T174259
CREATED:20241119T144511Z
LAST-MODIFIED:20241119T144637Z
UID:30566-1732302900-1732317300@sc-weisse-dame.de
SUMMARY:Clubmeisterschaft – Nachholpartien und Vorgezogene Partien
DESCRIPTION:
URL:http://sc-weisse-dame.de/v3/termine/clubmeisterschaft-nachholpartien-und-vorgezogene-partien/
CATEGORIES:Allgemein
END:VEVENT
BEGIN:VEVENT
DTSTART;TZID=Europe/Berlin:20241124T100000
DTEND;TZID=Europe/Berlin:20241124T160000
DTSTAMP:20260420T174259
CREATED:20241124T080027Z
LAST-MODIFIED:20241124T080450Z
UID:30650-1732442400-1732464000@sc-weisse-dame.de
SUMMARY:Landesliga 2024/25 (R3): TSG1 vs. WeDa1
DESCRIPTION:SV Mattnetz Berlin e.V.\, Rathaus Treptow\, Neue Krugallee 2-6\, 12435 Berlin
URL:http://sc-weisse-dame.de/v3/termine/landesliga-2024-25-r3-weda-1-vs-tsg-1/
LOCATION:Rathaus Treptow\, Neue Krugallee 2-6\, 12435 Berlin\, Germany
CATEGORIES:Allgemein,Landesliga (LL)
END:VEVENT
BEGIN:VEVENT
DTSTART;TZID=Europe/Berlin:20241129T191500
DTEND;TZID=Europe/Berlin:20241129T213000
DTSTAMP:20260420T174259
CREATED:20241119T144616Z
LAST-MODIFIED:20241128T120113Z
UID:30568-1732907700-1732915800@sc-weisse-dame.de
SUMMARY:Vortrag von Atila Figura
DESCRIPTION:
URL:http://sc-weisse-dame.de/v3/termine/vortrag-von-atila-figura/
CATEGORIES:Allgemein
END:VEVENT
END:VCALENDAR