BEGIN:VCALENDAR
VERSION:2.0
PRODID:-//SC Weisse Dame e. V. - ECPv6.15.20//NONSGML v1.0//EN
CALSCALE:GREGORIAN
METHOD:PUBLISH
X-ORIGINAL-URL:http://sc-weisse-dame.de/v3
X-WR-CALDESC:Veranstaltungen für SC Weisse Dame e. V.
REFRESH-INTERVAL;VALUE=DURATION:PT1H
X-Robots-Tag:noindex
X-PUBLISHED-TTL:PT1H
BEGIN:VTIMEZONE
TZID:Europe/Berlin
BEGIN:DAYLIGHT
TZOFFSETFROM:+0100
TZOFFSETTO:+0200
TZNAME:CEST
DTSTART:20230326T010000
END:DAYLIGHT
BEGIN:STANDARD
TZOFFSETFROM:+0200
TZOFFSETTO:+0100
TZNAME:CET
DTSTART:20231029T010000
END:STANDARD
BEGIN:DAYLIGHT
TZOFFSETFROM:+0100
TZOFFSETTO:+0200
TZNAME:CEST
DTSTART:20240331T010000
END:DAYLIGHT
BEGIN:STANDARD
TZOFFSETFROM:+0200
TZOFFSETTO:+0100
TZNAME:CET
DTSTART:20241027T010000
END:STANDARD
BEGIN:DAYLIGHT
TZOFFSETFROM:+0100
TZOFFSETTO:+0200
TZNAME:CEST
DTSTART:20250330T010000
END:DAYLIGHT
BEGIN:STANDARD
TZOFFSETFROM:+0200
TZOFFSETTO:+0100
TZNAME:CET
DTSTART:20251026T010000
END:STANDARD
END:VTIMEZONE
BEGIN:VEVENT
DTSTART;TZID=Europe/Berlin:20240906T190000
DTEND;TZID=Europe/Berlin:20240906T230000
DTSTAMP:20260420T210639
CREATED:20240825T191049Z
LAST-MODIFIED:20240825T191318Z
UID:29893-1725649200-1725663600@sc-weisse-dame.de
SUMMARY:Otto-Christ-Pokal (Finale) und Westpokal (R1) auswärts bei Siemensstadt
DESCRIPTION:
URL:http://sc-weisse-dame.de/v3/termine/otto-christ-pokal-finale-und-westpokal-r1-auswaerts/
LOCATION:HaL Haus am Lietzensee\, Herbartstraße 25\, Berlin\, Berlin\, 14057\, Deutschland
CATEGORIES:Allgemein,Westpokal
END:VEVENT
BEGIN:VEVENT
DTSTART;TZID=Europe/Berlin:20240913T191500
DTEND;TZID=Europe/Berlin:20240913T230000
DTSTAMP:20260420T210639
CREATED:20240825T191613Z
LAST-MODIFIED:20240825T191613Z
UID:29897-1726254900-1726268400@sc-weisse-dame.de
SUMMARY:Schnellturnier "Freitag der 13."
DESCRIPTION:Offenes Schnellschach-Turnier für Einzelspieler/-innen  „Freitag der 13.“ am 13.09.2024 \nModus:\n7 Runden Schweizer System nach FIDE-Schnellschachregeln\nBegrenzte Teilnehmerkapazität – max. 50 Teilnehmer möglich (maßgeblich ist die Reihenfolge der Anmeldung vor Ort.\nDas Turnier ist zugleich das 4. Wertungsturnier der Clubschnellschachmeisterschaft 2024 \nBedenkzeit:\n10 Minuten plus 3 Sekunden/Zug pro Spieler und Partie \nStartgeld:\n5 € (Barzahlung vor Ort)\nMitglieder des SC Weisse Dame e.V. sind startgeldfrei! \nPreisfonds:\n50 € / 40 € / 30 € / 25 € \nSonderpreise:\nje 25 € für TWZ < 2000\, TWZ < 1700\, beste weibliche Teilnehmerin\n(bei mindestens 3 Teilnehmerinnen) \nPreisverteilung nach Endrangliste (kein Hort-System)\, keine Doppelpreise \nZeitplan:\nAnmeldeschluss: 19:15 Uhr\nPreisverleihung: ca. 23:00 Uhr
URL:http://sc-weisse-dame.de/v3/termine/schnellturnier-freitag-der-13/
LOCATION:HaL Haus am Lietzensee\, Herbartstraße 25\, Berlin\, Berlin\, 14057\, Deutschland
CATEGORIES:Allgemein,Schnellschach
END:VEVENT
BEGIN:VEVENT
DTSTART;TZID=Europe/Berlin:20240920T190000
DTEND;TZID=Europe/Berlin:20240920T230000
DTSTAMP:20260420T210639
CREATED:20240825T191807Z
LAST-MODIFIED:20240825T191807Z
UID:29899-1726858800-1726873200@sc-weisse-dame.de
SUMMARY:Otto-Christ-Pokal (Ausweichtermin) und Westpokal (R2) auswärts bei Zitadelle
DESCRIPTION:
URL:http://sc-weisse-dame.de/v3/termine/otto-christ-pokal-ausweichtermin-und-westpokal-r2-auswaerts-bei-zitadelle/
LOCATION:HaL Haus am Lietzensee\, Herbartstraße 25\, Berlin\, Berlin\, 14057\, Deutschland
CATEGORIES:Allgemein,Otto-Christ-Pokal,Westpokal
END:VEVENT
BEGIN:VEVENT
DTSTART;TZID=Europe/Berlin:20240927T191500
DTEND;TZID=Europe/Berlin:20240927T230000
DTSTAMP:20260420T210639
CREATED:20240825T191936Z
LAST-MODIFIED:20240825T191936Z
UID:29901-1727464500-1727478000@sc-weisse-dame.de
SUMMARY:Westpokal (R3)\, Heimspiel
DESCRIPTION:
URL:http://sc-weisse-dame.de/v3/termine/westpokal-r3-heimspiel/
LOCATION:HaL Haus am Lietzensee\, Herbartstraße 25\, Berlin\, Berlin\, 14057\, Deutschland
CATEGORIES:Allgemein,Westpokal
END:VEVENT
BEGIN:VEVENT
DTSTART;TZID=Europe/Berlin:20240929T090000
DTEND;TZID=Europe/Berlin:20240929T140000
DTSTAMP:20260420T210639
CREATED:20240924T191645Z
LAST-MODIFIED:20240924T191645Z
UID:30048-1727600400-1727618400@sc-weisse-dame.de
SUMMARY:BMM R1 (2.-4. Heimspiel\, 5. auswärts)
DESCRIPTION:
URL:http://sc-weisse-dame.de/v3/termine/bmm-r1-2-4-heimspiel-5-auswaerts/
LOCATION:HaL Haus am Lietzensee\, Herbartstraße 25\, Berlin\, Berlin\, 14057\, Deutschland
CATEGORIES:Allgemein,BMM
END:VEVENT
END:VCALENDAR