BEGIN:VCALENDAR
VERSION:2.0
PRODID:-//SC Weisse Dame e. V. - ECPv6.15.20//NONSGML v1.0//EN
CALSCALE:GREGORIAN
METHOD:PUBLISH
X-WR-CALNAME:SC Weisse Dame e. V.
X-ORIGINAL-URL:http://sc-weisse-dame.de/v3
X-WR-CALDESC:Veranstaltungen für SC Weisse Dame e. V.
REFRESH-INTERVAL;VALUE=DURATION:PT1H
X-Robots-Tag:noindex
X-PUBLISHED-TTL:PT1H
BEGIN:VTIMEZONE
TZID:Europe/Berlin
BEGIN:DAYLIGHT
TZOFFSETFROM:+0100
TZOFFSETTO:+0200
TZNAME:CEST
DTSTART:20230326T010000
END:DAYLIGHT
BEGIN:STANDARD
TZOFFSETFROM:+0200
TZOFFSETTO:+0100
TZNAME:CET
DTSTART:20231029T010000
END:STANDARD
BEGIN:DAYLIGHT
TZOFFSETFROM:+0100
TZOFFSETTO:+0200
TZNAME:CEST
DTSTART:20240331T010000
END:DAYLIGHT
BEGIN:STANDARD
TZOFFSETFROM:+0200
TZOFFSETTO:+0100
TZNAME:CET
DTSTART:20241027T010000
END:STANDARD
BEGIN:DAYLIGHT
TZOFFSETFROM:+0100
TZOFFSETTO:+0200
TZNAME:CEST
DTSTART:20250330T010000
END:DAYLIGHT
BEGIN:STANDARD
TZOFFSETFROM:+0200
TZOFFSETTO:+0100
TZNAME:CET
DTSTART:20251026T010000
END:STANDARD
END:VTIMEZONE
BEGIN:VEVENT
DTSTART;TZID=Europe/Berlin:20240802T191500
DTEND;TZID=Europe/Berlin:20240802T230000
DTSTAMP:20260420T224627
CREATED:20240801T222918Z
LAST-MODIFIED:20240801T222942Z
UID:29700-1722626100-1722639600@sc-weisse-dame.de
SUMMARY:Otto-Christ-Pokal\, Ausweichtermin
DESCRIPTION:
URL:http://sc-weisse-dame.de/v3/termine/otto-christ-pokal-ausweichtermin-5/
LOCATION:HaL Haus am Lietzensee\, Herbartstraße 25\, Berlin\, Berlin\, 14057\, Deutschland
CATEGORIES:Allgemein,Otto-Christ-Pokal
END:VEVENT
BEGIN:VEVENT
DTSTART;TZID=Europe/Berlin:20240809T191500
DTEND;TZID=Europe/Berlin:20240809T230000
DTSTAMP:20260420T224627
CREATED:20240729T125808Z
LAST-MODIFIED:20240731T213916Z
UID:29691-1723230900-1723244400@sc-weisse-dame.de
SUMMARY:Clubblitzschachmeisterschaft\, 4. Wertungsturnier
DESCRIPTION:Zeitmodus: 3 + 2; Turnierbeginn ist 19:30\, seid bitte ab 19:15 da.
URL:http://sc-weisse-dame.de/v3/termine/clubblitzschachmeisterschaft-4-wertungsturnier/
LOCATION:HaL Haus am Lietzensee\, Herbartstraße 25\, Berlin\, Berlin\, 14057\, Deutschland
CATEGORIES:Allgemein,Blitzschach
END:VEVENT
BEGIN:VEVENT
DTSTART;TZID=Europe/Berlin:20240816T191500
DTEND;TZID=Europe/Berlin:20240816T230000
DTSTAMP:20260420T224627
CREATED:20240814T185844Z
LAST-MODIFIED:20240814T185844Z
UID:29743-1723835700-1723849200@sc-weisse-dame.de
SUMMARY:Otto-Christ-Pokal\, Ausweichtermin
DESCRIPTION:
URL:http://sc-weisse-dame.de/v3/termine/otto-christ-pokal-ausweichtermin-7/
LOCATION:HaL Haus am Lietzensee\, Herbartstraße 25\, Berlin\, Berlin\, 14057\, Deutschland
CATEGORIES:Allgemein,Otto-Christ-Pokal
END:VEVENT
BEGIN:VEVENT
DTSTART;TZID=Europe/Berlin:20240823T191500
DTEND;TZID=Europe/Berlin:20240823T230000
DTSTAMP:20260420T224627
CREATED:20240814T185750Z
LAST-MODIFIED:20240814T185750Z
UID:29741-1724440500-1724454000@sc-weisse-dame.de
SUMMARY:Otto-Christ-Pokal\, Halbfinale & Schweizer System-Turnier
DESCRIPTION:
URL:http://sc-weisse-dame.de/v3/termine/otto-christ-pokal-ausweichtermin-5-2/
LOCATION:HaL Haus am Lietzensee\, Herbartstraße 25\, Berlin\, Berlin\, 14057\, Deutschland
CATEGORIES:Allgemein,Otto-Christ-Pokal
END:VEVENT
BEGIN:VEVENT
DTSTART;TZID=Europe/Berlin:20240827T190000
DTEND;TZID=Europe/Berlin:20240827T210000
DTSTAMP:20260420T224627
CREATED:20240825T220127Z
LAST-MODIFIED:20240826T092020Z
UID:29758-1724785200-1724792400@sc-weisse-dame.de
SUMMARY:Erwachsenentraining (DWZ/ELO >1500)
DESCRIPTION:Erwachsenentraining
URL:http://sc-weisse-dame.de/v3/termine/erwachsenentraining-19/
LOCATION:Jit.si online
CATEGORIES:Allgemein,Erwachsenentraining
END:VEVENT
BEGIN:VEVENT
DTSTART;TZID=Europe/Berlin:20240827T193000
DTEND;TZID=Europe/Berlin:20240827T213000
DTSTAMP:20260420T224627
CREATED:20240825T220035Z
LAST-MODIFIED:20240826T213714Z
UID:29763-1724787000-1724794200@sc-weisse-dame.de
SUMMARY:Erwachsenentraining (DWZ/ELO
DESCRIPTION:Erwachsenentraining
URL:http://sc-weisse-dame.de/v3/termine/erwachsenentraining-dwz-elo/
LOCATION:Schachschule Berlin\, Bayerische Str. 32\, 10707 Berlin-Wilmersdorf\, Bayerische Str. 32\, 10707 Berlin-Wilmersdorf\, Berlin-Wilmersdorf\, Berlin\, 10707\, Deutschland
CATEGORIES:Erwachsenentraining
END:VEVENT
BEGIN:VEVENT
DTSTART;TZID=Europe/Berlin:20240830T193000
DTEND;TZID=Europe/Berlin:20240830T213000
DTSTAMP:20260420T224627
CREATED:20240825T190813Z
LAST-MODIFIED:20240825T190813Z
UID:29891-1725046200-1725053400@sc-weisse-dame.de
SUMMARY:Trainingsabend mit IM Atila Figura
DESCRIPTION:Thema: Kennenlernen von dynamischen Nachteilen
URL:http://sc-weisse-dame.de/v3/termine/trainingsabend-mit-im-atila-figura/
LOCATION:HaL Haus am Lietzensee\, Herbartstraße 25\, Berlin\, Berlin\, 14057\, Deutschland
CATEGORIES:Allgemein,Vortrag
END:VEVENT
END:VCALENDAR