BEGIN:VCALENDAR
VERSION:2.0
PRODID:-//SC Weisse Dame e. V. - ECPv6.15.20//NONSGML v1.0//EN
CALSCALE:GREGORIAN
METHOD:PUBLISH
X-ORIGINAL-URL:http://sc-weisse-dame.de/v3
X-WR-CALDESC:Veranstaltungen für SC Weisse Dame e. V.
REFRESH-INTERVAL;VALUE=DURATION:PT1H
X-Robots-Tag:noindex
X-PUBLISHED-TTL:PT1H
BEGIN:VTIMEZONE
TZID:Europe/Berlin
BEGIN:DAYLIGHT
TZOFFSETFROM:+0100
TZOFFSETTO:+0200
TZNAME:CEST
DTSTART:20230326T010000
END:DAYLIGHT
BEGIN:STANDARD
TZOFFSETFROM:+0200
TZOFFSETTO:+0100
TZNAME:CET
DTSTART:20231029T010000
END:STANDARD
BEGIN:DAYLIGHT
TZOFFSETFROM:+0100
TZOFFSETTO:+0200
TZNAME:CEST
DTSTART:20240331T010000
END:DAYLIGHT
BEGIN:STANDARD
TZOFFSETFROM:+0200
TZOFFSETTO:+0100
TZNAME:CET
DTSTART:20241027T010000
END:STANDARD
BEGIN:DAYLIGHT
TZOFFSETFROM:+0100
TZOFFSETTO:+0200
TZNAME:CEST
DTSTART:20250330T010000
END:DAYLIGHT
BEGIN:STANDARD
TZOFFSETFROM:+0200
TZOFFSETTO:+0100
TZNAME:CET
DTSTART:20251026T010000
END:STANDARD
END:VTIMEZONE
BEGIN:VEVENT
DTSTART;TZID=Europe/Berlin:20240705T191500
DTEND;TZID=Europe/Berlin:20240705T230000
DTSTAMP:20260421T003645
CREATED:20240702T222404Z
LAST-MODIFIED:20240702T222817Z
UID:29592-1720206900-1720220400@sc-weisse-dame.de
SUMMARY:Otto-Christ-Pokal\, Viertelfinale
DESCRIPTION:
URL:http://sc-weisse-dame.de/v3/termine/otto-christ-pokal-viertelfinale-5/
LOCATION:HaL Haus am Lietzensee\, Herbartstraße 25\, Berlin\, Berlin\, 14057\, Deutschland
CATEGORIES:Allgemein,Otto-Christ-Pokal
END:VEVENT
BEGIN:VEVENT
DTSTART;TZID=Europe/Berlin:20240712T193000
DTEND;TZID=Europe/Berlin:20240712T230000
DTSTAMP:20260421T003645
CREATED:20240702T222619Z
LAST-MODIFIED:20240702T222646Z
UID:29594-1720812600-1720825200@sc-weisse-dame.de
SUMMARY:Club-Blitzmeisterschaft\, 4. Wertungsturnier
DESCRIPTION:Modus 3 min + 2 s\, Rundenturnier \nTurnierbeginn 19:30 Uhr. Bitte seid bereits einige Minuten vorher da.
URL:http://sc-weisse-dame.de/v3/termine/club-blitzmeisterschaft-4-wertungsturnier/
LOCATION:HaL Haus am Lietzensee\, Herbartstraße 25\, Berlin\, Berlin\, 14057\, Deutschland
CATEGORIES:Allgemein,Blitzschach
END:VEVENT
BEGIN:VEVENT
DTSTART;TZID=Europe/Berlin:20240719T191500
DTEND;TZID=Europe/Berlin:20240719T230000
DTSTAMP:20260421T003645
CREATED:20240702T222750Z
LAST-MODIFIED:20240702T222750Z
UID:29596-1721416500-1721430000@sc-weisse-dame.de
SUMMARY:Otto-Christ-Pokal\, Ausweichtermin
DESCRIPTION:
URL:http://sc-weisse-dame.de/v3/termine/otto-christ-pokal-ausweichtermin-4/
LOCATION:HaL Haus am Lietzensee\, Herbartstraße 25\, Berlin\, Berlin\, 14057\, Deutschland
CATEGORIES:Allgemein,Otto-Christ-Pokal
END:VEVENT
BEGIN:VEVENT
DTSTART;TZID=Europe/Berlin:20240719T200000
DTEND;TZID=Europe/Berlin:20240719T220000
DTSTAMP:20260421T003645
CREATED:20240718T213821Z
LAST-MODIFIED:20240718T213852Z
UID:29658-1721419200-1721426400@sc-weisse-dame.de
SUMMARY:BMM Info-Talk und Lesezirkel
DESCRIPTION:
URL:http://sc-weisse-dame.de/v3/termine/bmm-info-talk-und-lesezirkel/
CATEGORIES:Allgemein,Organisatorisches
END:VEVENT
BEGIN:VEVENT
DTSTART;TZID=Europe/Berlin:20240726T191500
DTEND;TZID=Europe/Berlin:20240726T230000
DTSTAMP:20260421T003645
CREATED:20240724T214509Z
LAST-MODIFIED:20240724T214509Z
UID:29674-1722021300-1722034800@sc-weisse-dame.de
SUMMARY:Otto-Christ-Pokal\, Ausweichtermin
DESCRIPTION:
URL:http://sc-weisse-dame.de/v3/termine/otto-christ-pokal-ausweichtermin-4-2/
LOCATION:HaL Haus am Lietzensee\, Herbartstraße 25\, Berlin\, Berlin\, 14057\, Deutschland
CATEGORIES:Allgemein,Otto-Christ-Pokal
END:VEVENT
END:VCALENDAR