BEGIN:VCALENDAR
VERSION:2.0
PRODID:-//SC Weisse Dame e. V. - ECPv6.15.20//NONSGML v1.0//EN
CALSCALE:GREGORIAN
METHOD:PUBLISH
X-WR-CALNAME:SC Weisse Dame e. V.
X-ORIGINAL-URL:http://sc-weisse-dame.de/v3
X-WR-CALDESC:Veranstaltungen für SC Weisse Dame e. V.
REFRESH-INTERVAL;VALUE=DURATION:PT1H
X-Robots-Tag:noindex
X-PUBLISHED-TTL:PT1H
BEGIN:VTIMEZONE
TZID:Europe/Berlin
BEGIN:DAYLIGHT
TZOFFSETFROM:+0100
TZOFFSETTO:+0200
TZNAME:CEST
DTSTART:20230326T010000
END:DAYLIGHT
BEGIN:STANDARD
TZOFFSETFROM:+0200
TZOFFSETTO:+0100
TZNAME:CET
DTSTART:20231029T010000
END:STANDARD
BEGIN:DAYLIGHT
TZOFFSETFROM:+0100
TZOFFSETTO:+0200
TZNAME:CEST
DTSTART:20240331T010000
END:DAYLIGHT
BEGIN:STANDARD
TZOFFSETFROM:+0200
TZOFFSETTO:+0100
TZNAME:CET
DTSTART:20241027T010000
END:STANDARD
BEGIN:DAYLIGHT
TZOFFSETFROM:+0100
TZOFFSETTO:+0200
TZNAME:CEST
DTSTART:20250330T010000
END:DAYLIGHT
BEGIN:STANDARD
TZOFFSETFROM:+0200
TZOFFSETTO:+0100
TZNAME:CET
DTSTART:20251026T010000
END:STANDARD
END:VTIMEZONE
BEGIN:VEVENT
DTSTART;TZID=Europe/Berlin:20240607T190000
DTEND;TZID=Europe/Berlin:20240607T230000
DTSTAMP:20260421T022558
CREATED:20240523T201606Z
LAST-MODIFIED:20240604T134410Z
UID:29347-1717786800-1717801200@sc-weisse-dame.de
SUMMARY:Clubmeister-Simultan Yannick Kather und OCP (Ausweichtermin)
DESCRIPTION:
URL:http://sc-weisse-dame.de/v3/termine/otto-christ-pokal-ausweichtermin-3/
LOCATION:HaL Haus am Lietzensee\, Herbartstraße 25\, Berlin\, Berlin\, 14057\, Deutschland
CATEGORIES:Allgemein,Otto-Christ-Pokal
END:VEVENT
BEGIN:VEVENT
DTSTART;TZID=Europe/Berlin:20240614T193000
DTEND;TZID=Europe/Berlin:20240614T230000
DTSTAMP:20260421T022558
CREATED:20240515T202102Z
LAST-MODIFIED:20240604T183815Z
UID:29233-1718393400-1718406000@sc-weisse-dame.de
SUMMARY:Offenes Blitzturnier
DESCRIPTION:Rundenturnier\, Bedenkzeit 3 min plus 2 s. \n  \n 
URL:http://sc-weisse-dame.de/v3/termine/blitzschach-turnier-3/
LOCATION:HaL Haus am Lietzensee\, Herbartstraße 25\, Berlin\, Berlin\, 14057\, Deutschland
CATEGORIES:Allgemein,Blitzschach
END:VEVENT
BEGIN:VEVENT
DTSTART;TZID=Europe/Berlin:20240621T190000
DTEND;TZID=Europe/Berlin:20240621T230000
DTSTAMP:20260421T022558
CREATED:20240523T192338Z
LAST-MODIFIED:20240615T040210Z
UID:29335-1718996400-1719010800@sc-weisse-dame.de
SUMMARY:Kein Spielabend!
DESCRIPTION:
URL:http://sc-weisse-dame.de/v3/termine/kein-spielabend-2/
LOCATION:HaL Haus am Lietzensee\, Herbartstraße 25\, Berlin\, Berlin\, 14057\, Deutschland
CATEGORIES:Allgemein,Organisatorisches
END:VEVENT
BEGIN:VEVENT
DTSTART;TZID=Europe/Berlin:20240623T100000
DTEND;TZID=Europe/Berlin:20240623T160000
DTSTAMP:20260421T022558
CREATED:20240523T192601Z
LAST-MODIFIED:20240523T192601Z
UID:29337-1719136800-1719158400@sc-weisse-dame.de
SUMMARY:4. Kurzes Jugendturnier
DESCRIPTION:Zur Turnierseite
URL:http://sc-weisse-dame.de/v3/termine/4-kurzes-jugendturnier/
LOCATION:HaL Haus am Lietzensee\, Herbartstraße 25\, Berlin\, Berlin\, 14057\, Deutschland
CATEGORIES:Allgemein,Jugend
END:VEVENT
BEGIN:VEVENT
DTSTART;TZID=Europe/Berlin:20240623T160000
DTEND;TZID=Europe/Berlin:20240623T220000
DTSTAMP:20260421T022558
CREATED:20240523T201145Z
LAST-MODIFIED:20240523T201145Z
UID:29339-1719158400-1719180000@sc-weisse-dame.de
SUMMARY:Sommerfest
DESCRIPTION:
URL:http://sc-weisse-dame.de/v3/termine/sommerfest/
LOCATION:HaL Haus am Lietzensee\, Herbartstraße 25\, Berlin\, Berlin\, 14057\, Deutschland
CATEGORIES:Allgemein,Grillfest
END:VEVENT
BEGIN:VEVENT
DTSTART;TZID=Europe/Berlin:20240628T193000
DTEND;TZID=Europe/Berlin:20240628T230000
DTSTAMP:20260421T022558
CREATED:20240522T215852Z
LAST-MODIFIED:20240527T204349Z
UID:29311-1719603000-1719615600@sc-weisse-dame.de
SUMMARY:Mitgliederversammlung
DESCRIPTION:http://sc-weisse-dame.de/v3/2024/05/einladung-zur-mitgliederversammlung-am-28-06-2024/
URL:http://sc-weisse-dame.de/v3/termine/mitgliederversammlung-2/
LOCATION:HaL Haus am Lietzensee\, Herbartstraße 25\, Berlin\, Berlin\, 14057\, Deutschland
CATEGORIES:Allgemein,Jahreshauptversammlung
END:VEVENT
END:VCALENDAR