BEGIN:VCALENDAR
VERSION:2.0
PRODID:-//SC Weisse Dame e. V. - ECPv6.15.20//NONSGML v1.0//EN
CALSCALE:GREGORIAN
METHOD:PUBLISH
X-ORIGINAL-URL:http://sc-weisse-dame.de/v3
X-WR-CALDESC:Veranstaltungen für SC Weisse Dame e. V.
REFRESH-INTERVAL;VALUE=DURATION:PT1H
X-Robots-Tag:noindex
X-PUBLISHED-TTL:PT1H
BEGIN:VTIMEZONE
TZID:Europe/Berlin
BEGIN:DAYLIGHT
TZOFFSETFROM:+0100
TZOFFSETTO:+0200
TZNAME:CEST
DTSTART:20230326T010000
END:DAYLIGHT
BEGIN:STANDARD
TZOFFSETFROM:+0200
TZOFFSETTO:+0100
TZNAME:CET
DTSTART:20231029T010000
END:STANDARD
BEGIN:DAYLIGHT
TZOFFSETFROM:+0100
TZOFFSETTO:+0200
TZNAME:CEST
DTSTART:20240331T010000
END:DAYLIGHT
BEGIN:STANDARD
TZOFFSETFROM:+0200
TZOFFSETTO:+0100
TZNAME:CET
DTSTART:20241027T010000
END:STANDARD
BEGIN:DAYLIGHT
TZOFFSETFROM:+0100
TZOFFSETTO:+0200
TZNAME:CEST
DTSTART:20250330T010000
END:DAYLIGHT
BEGIN:STANDARD
TZOFFSETFROM:+0200
TZOFFSETTO:+0100
TZNAME:CET
DTSTART:20251026T010000
END:STANDARD
END:VTIMEZONE
BEGIN:VEVENT
DTSTART;TZID=Europe/Berlin:20240405T190000
DTEND;TZID=Europe/Berlin:20240405T230000
DTSTAMP:20260421T060413
CREATED:20240404T121915Z
LAST-MODIFIED:20240404T121915Z
UID:28958-1712343600-1712358000@sc-weisse-dame.de
SUMMARY:Freies Spiel
DESCRIPTION:
URL:http://sc-weisse-dame.de/v3/termine/freies-spiel-4/
LOCATION:HaL Haus am Lietzensee\, Herbartstraße 25\, Berlin\, Berlin\, 14057\, Deutschland
CATEGORIES:Allgemein,freies Spiel
END:VEVENT
BEGIN:VEVENT
DTSTART;TZID=Europe/Berlin:20240412T193000
DTEND;TZID=Europe/Berlin:20240412T230000
DTSTAMP:20260421T060413
CREATED:20240404T121801Z
LAST-MODIFIED:20240407T202437Z
UID:28956-1712950200-1712962800@sc-weisse-dame.de
SUMMARY:Clubblitzmeisterschaft\, 2. Wertungsturnier
DESCRIPTION:Rundenturnier\, Bedenkzeit 3 min plus 2 s. \nDetails siehe Ankündigung auf der Webseite:\n \n 
URL:http://sc-weisse-dame.de/v3/termine/blitzschach-turnier-2/
LOCATION:HaL Haus am Lietzensee\, Herbartstraße 25\, Berlin\, Berlin\, 14057\, Deutschland
CATEGORIES:Allgemein,Blitzschach
END:VEVENT
BEGIN:VEVENT
DTSTART;TZID=Europe/Berlin:20240414T110000
DTEND;TZID=Europe/Berlin:20240414T170000
DTSTAMP:20260421T060413
CREATED:20240410T073912Z
LAST-MODIFIED:20240410T073912Z
UID:28977-1713092400-1713114000@sc-weisse-dame.de
SUMMARY:Oberliga (R8) - Heimspiel vs. Güstrow/Teterow
DESCRIPTION:Zuschauer sind herzlich willkommen! \nZum Ergebnisdienst \n 
URL:http://sc-weisse-dame.de/v3/termine/olno-runde-8/
LOCATION:HaL Haus am Lietzensee\, Herbartstraße 25\, Berlin\, Berlin\, 14057\, Deutschland
CATEGORIES:Allgemein,Oberliga,OLNO
END:VEVENT
BEGIN:VEVENT
DTSTART;TZID=Europe/Berlin:20240419T193000
DTEND;TZID=Europe/Berlin:20240419T230000
DTSTAMP:20260421T060413
CREATED:20240417T215227Z
LAST-MODIFIED:20240417T215227Z
UID:29076-1713555000-1713567600@sc-weisse-dame.de
SUMMARY:Endspielstudien mit Ingo
DESCRIPTION:
URL:http://sc-weisse-dame.de/v3/termine/endspielstudien-mit-ingo/
LOCATION:HaL Haus am Lietzensee\, Herbartstraße 25\, Berlin\, Berlin\, 14057\, Deutschland
CATEGORIES:Allgemein,Erwachsenentraining
END:VEVENT
BEGIN:VEVENT
DTSTART;TZID=Europe/Berlin:20240421T090000
DTEND;TZID=Europe/Berlin:20240421T140000
DTSTAMP:20260421T060413
CREATED:20240417T214804Z
LAST-MODIFIED:20240417T214817Z
UID:29072-1713690000-1713708000@sc-weisse-dame.de
SUMMARY:BMM (R8)
DESCRIPTION:VIERTE\, FÜNFTE und SECHSTE spielen zu Hause. \nDie ZWEITE im World Chess Club. \nDie DRITTE auswärts. \nZum BMM-Ergebnisdienst \n  \n 
URL:http://sc-weisse-dame.de/v3/termine/bmm-runde-7-2/
LOCATION:HaL Haus am Lietzensee\, Herbartstraße 25\, Berlin\, Berlin\, 14057\, Deutschland
CATEGORIES:Allgemein,BMM
END:VEVENT
BEGIN:VEVENT
DTSTART;TZID=Europe/Berlin:20240426T190000
DTEND;TZID=Europe/Berlin:20240426T230000
DTSTAMP:20260421T060413
CREATED:20240417T215118Z
LAST-MODIFIED:20240417T215118Z
UID:29074-1714158000-1714172400@sc-weisse-dame.de
SUMMARY:Clubmeisterschaft (R7) - B- und C-Gruppe
DESCRIPTION:Alle Ansetzungen und Ergebnisse können hier verfolgt werden: CM 2024 – A-Klasse – B-Klasse – C-Klasse
URL:http://sc-weisse-dame.de/v3/termine/clubmeisterschaft-r7-2/
LOCATION:HaL Haus am Lietzensee\, Herbartstraße 25\, Berlin\, Berlin\, 14057\, Deutschland
CATEGORIES:Allgemein,Clubmeisterschaft
END:VEVENT
BEGIN:VEVENT
DTSTART;TZID=Europe/Berlin:20240428T110000
DTEND;TZID=Europe/Berlin:20240428T170000
DTSTAMP:20260421T060413
CREATED:20240417T214557Z
LAST-MODIFIED:20240417T214557Z
UID:29070-1714302000-1714323600@sc-weisse-dame.de
SUMMARY:Oberliga (R9) - auswärts vs. Empor Potsdam
DESCRIPTION:Zuschauer sind herzlich willkommen! \nZum Ergebnisdienst \n 
URL:http://sc-weisse-dame.de/v3/termine/olno-runde-8-2/
CATEGORIES:Allgemein,Oberliga,OLNO
END:VEVENT
END:VCALENDAR