BEGIN:VCALENDAR
VERSION:2.0
PRODID:-//SC Weisse Dame e. V. - ECPv6.15.20//NONSGML v1.0//EN
CALSCALE:GREGORIAN
METHOD:PUBLISH
X-WR-CALNAME:SC Weisse Dame e. V.
X-ORIGINAL-URL:http://sc-weisse-dame.de/v3
X-WR-CALDESC:Veranstaltungen für SC Weisse Dame e. V.
REFRESH-INTERVAL;VALUE=DURATION:PT1H
X-Robots-Tag:noindex
X-PUBLISHED-TTL:PT1H
BEGIN:VTIMEZONE
TZID:Europe/Berlin
BEGIN:DAYLIGHT
TZOFFSETFROM:+0100
TZOFFSETTO:+0200
TZNAME:CEST
DTSTART:20230326T010000
END:DAYLIGHT
BEGIN:STANDARD
TZOFFSETFROM:+0200
TZOFFSETTO:+0100
TZNAME:CET
DTSTART:20231029T010000
END:STANDARD
BEGIN:DAYLIGHT
TZOFFSETFROM:+0100
TZOFFSETTO:+0200
TZNAME:CEST
DTSTART:20240331T010000
END:DAYLIGHT
BEGIN:STANDARD
TZOFFSETFROM:+0200
TZOFFSETTO:+0100
TZNAME:CET
DTSTART:20241027T010000
END:STANDARD
BEGIN:DAYLIGHT
TZOFFSETFROM:+0100
TZOFFSETTO:+0200
TZNAME:CEST
DTSTART:20250330T010000
END:DAYLIGHT
BEGIN:STANDARD
TZOFFSETFROM:+0200
TZOFFSETTO:+0100
TZNAME:CET
DTSTART:20251026T010000
END:STANDARD
END:VTIMEZONE
BEGIN:VEVENT
DTSTART;TZID=Europe/Berlin:20240301T190000
DTEND;TZID=Europe/Berlin:20240301T230000
DTSTAMP:20260421T074036
CREATED:20240211T184551Z
LAST-MODIFIED:20240211T184551Z
UID:28628-1709319600-1709334000@sc-weisse-dame.de
SUMMARY:Clubmeisterschaft (R6 / R5) - alle Gruppen
DESCRIPTION:
URL:http://sc-weisse-dame.de/v3/termine/clubmeisterschaft-r6-2/
LOCATION:HaL Haus am Lietzensee\, Herbartstraße 25\, Berlin\, Berlin\, 14057\, Deutschland
CATEGORIES:Allgemein,Clubmeisterschaft
END:VEVENT
BEGIN:VEVENT
DTSTART;TZID=Europe/Berlin:20240303T090000
DTEND;TZID=Europe/Berlin:20240303T140000
DTSTAMP:20260421T074036
CREATED:20240211T181521Z
LAST-MODIFIED:20240211T181521Z
UID:28620-1709456400-1709474400@sc-weisse-dame.de
SUMMARY:BMM (R7)
DESCRIPTION:VIERTE und FÜNFTE spielen zu Hause. \nDie ZWEITE im World Chess Club. \nDie DRITTE auswärts. \nDie SECHSTE hat spielfrei \nZum BMM-Ergebnisdienst \n  \n 
URL:http://sc-weisse-dame.de/v3/termine/bmm-runde-7/
CATEGORIES:Allgemein,BMM
END:VEVENT
BEGIN:VEVENT
DTSTART;TZID=Europe/Berlin:20240308T190000
DTEND;TZID=Europe/Berlin:20240308T230000
DTSTAMP:20260421T074036
CREATED:20240303T191720Z
LAST-MODIFIED:20240303T191720Z
UID:28727-1709924400-1709938800@sc-weisse-dame.de
SUMMARY:Ausweichtermin Clubmeisterschaft
DESCRIPTION:
URL:http://sc-weisse-dame.de/v3/termine/ausweichtermin-cm-2/
LOCATION:HaL Haus am Lietzensee\, Herbartstraße 25\, Berlin\, Berlin\, 14057\, Deutschland
CATEGORIES:Allgemein
END:VEVENT
BEGIN:VEVENT
DTSTART;TZID=Europe/Berlin:20240315T193000
DTEND;TZID=Europe/Berlin:20240315T230000
DTSTAMP:20260421T074036
CREATED:20240303T191901Z
LAST-MODIFIED:20240303T191901Z
UID:28729-1710531000-1710543600@sc-weisse-dame.de
SUMMARY:Clubschnellschach\, 2. Wertungsturnier
DESCRIPTION:Ausnahmsweise am 3. Freitag des Monats! \n7 Runden\, Bedenkzeit 10 min plus 3 s. \nDetails siehe Ankündigung.
URL:http://sc-weisse-dame.de/v3/termine/schnellschach-turnier-2/
LOCATION:HaL Haus am Lietzensee\, Herbartstraße 25\, Berlin\, Berlin\, 14057\, Deutschland
CATEGORIES:Allgemein,Schnellschach
END:VEVENT
BEGIN:VEVENT
DTSTART;TZID=Europe/Berlin:20240317T110000
DTEND;TZID=Europe/Berlin:20240317T170000
DTSTAMP:20260421T074036
CREATED:20240317T095657Z
LAST-MODIFIED:20240317T095657Z
UID:28829-1710673200-1710694800@sc-weisse-dame.de
SUMMARY:Oberliga (R7) - Auswärts vs. Mattnetz Berlin
DESCRIPTION:Spielort: Rathaus Treptow\, Neue Krugallee 2–6\, 12435 Berlin \nZum Ergebnisdienst \n 
URL:http://sc-weisse-dame.de/v3/termine/olno-runde-6-2/
LOCATION:HaL Haus am Lietzensee\, Herbartstraße 25\, Berlin\, Berlin\, 14057\, Deutschland
CATEGORIES:Allgemein,OLNO
END:VEVENT
BEGIN:VEVENT
DTSTART;TZID=Europe/Berlin:20240322T190000
DTEND;TZID=Europe/Berlin:20240322T230000
DTSTAMP:20260421T074036
CREATED:20240317T100307Z
LAST-MODIFIED:20240317T101457Z
UID:28833-1711134000-1711148400@sc-weisse-dame.de
SUMMARY:Clubmeisterschaft (R5) - A-Gruppe und Ausweichtermin
DESCRIPTION:Alle Ansetzungen und Ergebnisse können hier verfolgt werden: CM 2024 – A-Klasse – B-Klasse – C-Klasse
URL:http://sc-weisse-dame.de/v3/termine/clubmeisterschaft-r7/
LOCATION:HaL Haus am Lietzensee\, Herbartstraße 25\, Berlin\, Berlin\, 14057\, Deutschland
CATEGORIES:Allgemein,Clubmeisterschaft
END:VEVENT
BEGIN:VEVENT
DTSTART;TZID=Europe/Berlin:20240329T190000
DTEND;TZID=Europe/Berlin:20240329T230000
DTSTAMP:20260421T074036
CREATED:20240317T100001Z
LAST-MODIFIED:20240317T100011Z
UID:28831-1711738800-1711753200@sc-weisse-dame.de
SUMMARY:Kein Spielabend! (Karfreitag)
DESCRIPTION:Am Karfreitag findet kein Spielabend statt.
URL:http://sc-weisse-dame.de/v3/termine/kein-spielabend-karfreitag-4/
CATEGORIES:Allgemein
END:VEVENT
END:VCALENDAR