BEGIN:VCALENDAR
VERSION:2.0
PRODID:-//SC Weisse Dame e. V. - ECPv6.15.20//NONSGML v1.0//EN
CALSCALE:GREGORIAN
METHOD:PUBLISH
X-WR-CALNAME:SC Weisse Dame e. V.
X-ORIGINAL-URL:http://sc-weisse-dame.de/v3
X-WR-CALDESC:Veranstaltungen für SC Weisse Dame e. V.
REFRESH-INTERVAL;VALUE=DURATION:PT1H
X-Robots-Tag:noindex
X-PUBLISHED-TTL:PT1H
BEGIN:VTIMEZONE
TZID:Europe/Berlin
BEGIN:DAYLIGHT
TZOFFSETFROM:+0100
TZOFFSETTO:+0200
TZNAME:CEST
DTSTART:20230326T010000
END:DAYLIGHT
BEGIN:STANDARD
TZOFFSETFROM:+0200
TZOFFSETTO:+0100
TZNAME:CET
DTSTART:20231029T010000
END:STANDARD
BEGIN:DAYLIGHT
TZOFFSETFROM:+0100
TZOFFSETTO:+0200
TZNAME:CEST
DTSTART:20240331T010000
END:DAYLIGHT
BEGIN:STANDARD
TZOFFSETFROM:+0200
TZOFFSETTO:+0100
TZNAME:CET
DTSTART:20241027T010000
END:STANDARD
BEGIN:DAYLIGHT
TZOFFSETFROM:+0100
TZOFFSETTO:+0200
TZNAME:CEST
DTSTART:20250330T010000
END:DAYLIGHT
BEGIN:STANDARD
TZOFFSETFROM:+0200
TZOFFSETTO:+0100
TZNAME:CET
DTSTART:20251026T010000
END:STANDARD
END:VTIMEZONE
BEGIN:VEVENT
DTSTART;TZID=Europe/Berlin:20240202T190000
DTEND;TZID=Europe/Berlin:20240202T230000
DTSTAMP:20260421T092319
CREATED:20240131T210624Z
LAST-MODIFIED:20240131T210624Z
UID:28558-1706900400-1706914800@sc-weisse-dame.de
SUMMARY:Freier Spielabend und Nachholpartien Clubmeisterschaft
DESCRIPTION:
URL:http://sc-weisse-dame.de/v3/termine/freier-spielabend-6-2-2/
LOCATION:HaL Haus am Lietzensee\, Herbartstraße 25\, Berlin\, Berlin\, 14057\, Deutschland
CATEGORIES:Allgemein
END:VEVENT
BEGIN:VEVENT
DTSTART;TZID=Europe/Berlin:20240204T110000
DTEND;TZID=Europe/Berlin:20240204T170000
DTSTAMP:20260421T092319
CREATED:20240131T210527Z
LAST-MODIFIED:20240131T210527Z
UID:28556-1707044400-1707066000@sc-weisse-dame.de
SUMMARY:Oberliga (R5) - auswärts vs. Empor Berlin
DESCRIPTION:Spielort: Friedrich-Ludwig-Jahn-Sportpark (rotes Gebäude\, Mehrzweckraum)\,\nCantianstr. 24\, 10437 Berlin-Prenzlauer Berg \nZum Ergebnisdienst \n 
URL:http://sc-weisse-dame.de/v3/termine/olno-runde-2-2-3/
CATEGORIES:Allgemein,OLNO
END:VEVENT
BEGIN:VEVENT
DTSTART;TZID=Europe/Berlin:20240209T193000
DTEND;TZID=Europe/Berlin:20240209T230000
DTSTAMP:20260421T092319
CREATED:20240131T210849Z
LAST-MODIFIED:20240131T210954Z
UID:28560-1707507000-1707519600@sc-weisse-dame.de
SUMMARY:Clubblitzmeisterschaft\, 1. Wertungsturnier
DESCRIPTION:Rundenturnier\, Bedenkzeit 3 min plus 2 s. \nDetails siehe Ankündigung.
URL:http://sc-weisse-dame.de/v3/termine/blitzschach-turnier-1/
LOCATION:HaL Haus am Lietzensee\, Herbartstraße 25\, Berlin\, Berlin\, 14057\, Deutschland
CATEGORIES:Allgemein,Blitzschach
END:VEVENT
BEGIN:VEVENT
DTSTART;TZID=Europe/Berlin:20240216T190000
DTEND;TZID=Europe/Berlin:20240216T230000
DTSTAMP:20260421T092319
CREATED:20240211T183218Z
LAST-MODIFIED:20240211T183218Z
UID:28624-1708110000-1708124400@sc-weisse-dame.de
SUMMARY:Clubmeisterschaft (R5) - Gruppen B und C
DESCRIPTION:
URL:http://sc-weisse-dame.de/v3/termine/clubmeisterschaft-r5-2/
LOCATION:HaL Haus am Lietzensee\, Herbartstraße 25\, Berlin\, Berlin\, 14057\, Deutschland
CATEGORIES:Allgemein,Clubmeisterschaft
END:VEVENT
BEGIN:VEVENT
DTSTART;TZID=Europe/Berlin:20240218T090000
DTEND;TZID=Europe/Berlin:20240218T140000
DTSTAMP:20260421T092319
CREATED:20240211T181238Z
LAST-MODIFIED:20240211T182739Z
UID:28618-1708246800-1708264800@sc-weisse-dame.de
SUMMARY:BMM (R6)
DESCRIPTION:Die DRITTE spielt zu Hause. \nDie ZWEITE im World Chess Club. \nFÜNFTE und SECHSTE spielen auswärts. \nDie VIERTE hat spielfrei \nZum BMM-Ergebnisdienst \n  \n 
URL:http://sc-weisse-dame.de/v3/termine/bmm-runde-6-3/
CATEGORIES:Allgemein,BMM
END:VEVENT
BEGIN:VEVENT
DTSTART;TZID=Europe/Berlin:20240223T190000
DTEND;TZID=Europe/Berlin:20240223T230000
DTSTAMP:20260421T092319
CREATED:20240211T184422Z
LAST-MODIFIED:20240211T184422Z
UID:28626-1708714800-1708729200@sc-weisse-dame.de
SUMMARY:Ausweichtermin Clubmeisterschaft
DESCRIPTION:
URL:http://sc-weisse-dame.de/v3/termine/ausweichtermin-cm/
LOCATION:HaL Haus am Lietzensee\, Herbartstraße 25\, Berlin\, Berlin\, 14057\, Deutschland
CATEGORIES:Allgemein
END:VEVENT
BEGIN:VEVENT
DTSTART;TZID=Europe/Berlin:20240225T110000
DTEND;TZID=Europe/Berlin:20240225T170000
DTSTAMP:20260421T092319
CREATED:20240211T183030Z
LAST-MODIFIED:20240211T183030Z
UID:28622-1708858800-1708880400@sc-weisse-dame.de
SUMMARY:Oberliga (R6) - Heimspiel vs. König Tegel
DESCRIPTION:Zuschauer sind herzlich willkommen! \nZum Ergebnisdienst \n 
URL:http://sc-weisse-dame.de/v3/termine/olno-runde-6/
LOCATION:HaL Haus am Lietzensee\, Herbartstraße 25\, Berlin\, Berlin\, 14057\, Deutschland
CATEGORIES:Allgemein,OLNO
END:VEVENT
END:VCALENDAR