BEGIN:VCALENDAR
VERSION:2.0
PRODID:-//SC Weisse Dame e. V. - ECPv6.15.20//NONSGML v1.0//EN
CALSCALE:GREGORIAN
METHOD:PUBLISH
X-ORIGINAL-URL:http://sc-weisse-dame.de/v3
X-WR-CALDESC:Veranstaltungen für SC Weisse Dame e. V.
REFRESH-INTERVAL;VALUE=DURATION:PT1H
X-Robots-Tag:noindex
X-PUBLISHED-TTL:PT1H
BEGIN:VTIMEZONE
TZID:Europe/Berlin
BEGIN:DAYLIGHT
TZOFFSETFROM:+0100
TZOFFSETTO:+0200
TZNAME:CEST
DTSTART:20230326T010000
END:DAYLIGHT
BEGIN:STANDARD
TZOFFSETFROM:+0200
TZOFFSETTO:+0100
TZNAME:CET
DTSTART:20231029T010000
END:STANDARD
BEGIN:DAYLIGHT
TZOFFSETFROM:+0100
TZOFFSETTO:+0200
TZNAME:CEST
DTSTART:20240331T010000
END:DAYLIGHT
BEGIN:STANDARD
TZOFFSETFROM:+0200
TZOFFSETTO:+0100
TZNAME:CET
DTSTART:20241027T010000
END:STANDARD
BEGIN:DAYLIGHT
TZOFFSETFROM:+0100
TZOFFSETTO:+0200
TZNAME:CEST
DTSTART:20250330T010000
END:DAYLIGHT
BEGIN:STANDARD
TZOFFSETFROM:+0200
TZOFFSETTO:+0100
TZNAME:CET
DTSTART:20251026T010000
END:STANDARD
END:VTIMEZONE
BEGIN:VEVENT
DTSTART;TZID=Europe/Berlin:20240105T190000
DTEND;TZID=Europe/Berlin:20240105T220000
DTSTAMP:20260421T111746
CREATED:20240103T104915Z
LAST-MODIFIED:20240103T105112Z
UID:28414-1704481200-1704492000@sc-weisse-dame.de
SUMMARY:Internes Senior*innenturnier und CM-Nachholpartien
DESCRIPTION:Am 5.1.24 starten wir mit einer Premiere ins neue Jahr – einem internen Senior*innenturnier. \nJe nach Teilnehmerzahl planen wir in mehreren (Alters-)Gruppen zu spielen\, insbesondere einer ü60; sofern erforderlich\, werden u60-Spieler mit wenig Spielerfahrung dazusortiert. Weitere Gruppen\, wie ü50 (ggf. ü55)\, sind möglich.
URL:http://sc-weisse-dame.de/v3/termine/internes-seniorinnenturnier/
LOCATION:HaL Haus am Lietzensee\, Herbartstraße 25\, Berlin\, Berlin\, 14057\, Deutschland
CATEGORIES:Allgemein,Senior:innen
ORGANIZER;CN="SC Weisse Dame e.V.":MAILTO:info@sc-weisse-dame.de
END:VEVENT
BEGIN:VEVENT
DTSTART;TZID=Europe/Berlin:20240112T193000
DTEND;TZID=Europe/Berlin:20240112T230000
DTSTAMP:20260421T111746
CREATED:20240107T225020Z
LAST-MODIFIED:20240107T225052Z
UID:28442-1705087800-1705100400@sc-weisse-dame.de
SUMMARY:Clubschnellschach\, 1. Wertungsturnier
DESCRIPTION:7 Runden\, Bedenkzeit 10 min plus 3 s. \nDetails siehe Ankündigung.
URL:http://sc-weisse-dame.de/v3/termine/schnellschach-turnier-freitag-der-13-2/
LOCATION:HaL Haus am Lietzensee\, Herbartstraße 25\, Berlin\, Berlin\, 14057\, Deutschland
CATEGORIES:Allgemein,Schnellschach
END:VEVENT
BEGIN:VEVENT
DTSTART;TZID=Europe/Berlin:20240114T090000
DTEND;TZID=Europe/Berlin:20240114T160000
DTSTAMP:20260421T111746
CREATED:20231115T221044Z
LAST-MODIFIED:20240110T224634Z
UID:28182-1705222800-1705248000@sc-weisse-dame.de
SUMMARY:Oberliga und BMM (R4)
DESCRIPTION:ERSTE und DRITTE spielen zuhause \nZWEITE\, VIERTE und FÜNFTE auswärts \nSECHSTE ist spielfrei \nZum BMM-Ergebnisdienst \nZum Oberliga-Ergebnisdienst \n 
URL:http://sc-weisse-dame.de/v3/termine/olno-runde-2-2-2/
CATEGORIES:Allgemein,BMM,OLNO
END:VEVENT
BEGIN:VEVENT
DTSTART;TZID=Europe/Berlin:20240119T190000
DTEND;TZID=Europe/Berlin:20240119T230000
DTSTAMP:20260421T111746
CREATED:20240117T213218Z
LAST-MODIFIED:20240117T213218Z
UID:28484-1705690800-1705705200@sc-weisse-dame.de
SUMMARY:Freier Spielabend und Nachholpartien Clubmeisterschaft
DESCRIPTION:
URL:http://sc-weisse-dame.de/v3/termine/freier-spielabend-6-2/
LOCATION:HaL Haus am Lietzensee\, Herbartstraße 25\, Berlin\, Berlin\, 14057\, Deutschland
CATEGORIES:Allgemein
END:VEVENT
BEGIN:VEVENT
DTSTART;TZID=Europe/Berlin:20240126T190000
DTEND;TZID=Europe/Berlin:20240126T230000
DTSTAMP:20260421T111746
CREATED:20240117T213329Z
LAST-MODIFIED:20240117T213329Z
UID:28486-1706295600-1706310000@sc-weisse-dame.de
SUMMARY:Clubmeisterschaft (R4) - alle Gruppen
DESCRIPTION:
URL:http://sc-weisse-dame.de/v3/termine/clubmeisterschaft-r4-2/
LOCATION:HaL Haus am Lietzensee\, Herbartstraße 25\, Berlin\, Berlin\, 14057\, Deutschland
CATEGORIES:Allgemein,Clubmeisterschaft
END:VEVENT
BEGIN:VEVENT
DTSTART;TZID=Europe/Berlin:20240128T090000
DTEND;TZID=Europe/Berlin:20240128T140000
DTSTAMP:20260421T111746
CREATED:20240117T213717Z
LAST-MODIFIED:20240117T213717Z
UID:28488-1706432400-1706450400@sc-weisse-dame.de
SUMMARY:BMM (R5)
DESCRIPTION:VIERTE\, FÜNFTE und SECHSTE spielen zuhause. \nDie DRITTE auswärts. \nDie ZWEITE im World Chess Club. \nZum BMM-Ergebnisdienst \n  \n 
URL:http://sc-weisse-dame.de/v3/termine/olno-runde-2-2-2-2/
CATEGORIES:Allgemein,BMM,OLNO
END:VEVENT
END:VCALENDAR